Workbook
Name a: #REF!
Name actions: #REF!
Name actionsnew: '[1]Worksheet.Drop Down '!$D$17:$D$32
Name actionsnew: #REF!
Name adaptationactions: #REF!
Name adaptationtargets: '[1]Worksheet.Percep.Index'!$O$53:$O$57
Name adaptationtargets: #REF!
Name adaptationthemes: #REF!
Name agencies: #REF!
Name agency: '[1]Worksheet.Drop Down '!$E$2:$E$11
Name agency: #REF!
Name agriculture: '[1]Worksheet.Drop Down '!$L$17:$L$23
Name agriculture: #REF!
Name awareness: '[1]Worksheet.Percep.Index'!$O$35:$O$39
Name awareness: #REF!
Name budgettargets: '[1]Worksheet.Percep.Index'!$O$46:$O$50
Name budgettargets: #REF!
Name capacity: '[1]Worksheet.Percep.Index'!$O$24:$O$28
Name capacity: #REF!
Name capacitytech: '[1]Worksheet.Percep.Index'!$O$93:$O$97
Name capacitytech: #REF!
Name disaster: '[1]Worksheet.Drop Down '!$Q$17:$Q$23
Name disaster: #REF!
Name disease: '[1]Worksheet.Drop Down '!$I$17:$I$23
Name disease: #REF!
Name effectiveness: '[1]Worksheet.Percep.Index'!$O$64:$O$68
Name effectiveness: #REF!
Name effectoveness: #REF!
Name fund: '[1]Worksheet.Drop Down '!$D$2:$D$3
Name fund: #REF!
Name funds: #REF!
Name fundstype: #REF!
Name fundstype: #REF!
Name fundstype: #REF!
Name fundtype: #REF!
Name fundtype: #REF!
Name fundtype: #REF!
Name income: '[1]Worksheet.Drop Down '!$R$17:$R$23
Name income: #REF!
Name infrastructure: '[1]Worksheet.Drop Down '!$J$17:$J$23
Name infrastructure: #REF!
Name insurance: '[1]Worksheet.Drop Down '!$P$17:$P$23
Name insurance: #REF!
Name monitoringsystem: '[1]Worksheet.Drop Down '!$B$17:$B$22
Name monitoringsystem: #REF!
Name naturalassets: '[1]Worksheet.Drop Down '!$K$17:$K$23
Name naturalassets: #REF!
Name NoYes: #REF!
Name number: #REF!
Name objective: '[1]Worksheet.Drop Down '!$C$2:$C$4
Name objective: #REF!
Name objective: #REF!
Name objective: #REF!
Name objectives: #REF!
Name p: #REF!
Name p: #REF!
Name p: #REF!
Name planningframeworks: '[1]Worksheet.Drop Down '!$H$17:$H$23
Name planningframeworks: #REF!
Name policy: '[1]Worksheet.Percep.Index'!$O$85:$O$89

Sheet General Project Information 
C1: Climate Change Adaptation - LDCF/SCCF Adaptation Monitoring and Assessment Tool
B2: Goal: Support developing countries to become climate resilient by integrating adaptation measures in development policies, plans, programs, projects and actions
B3: Impact: Reduced absolute economic losses at country level (including loss of life, property and ecosystem services) due to climate change, including variability
B4: Indicator: Economic loss trend over a project period and beyond due to climate change, including variability
B5: Metric: Total property loss per event in $US/ Number of people affected by event during the project lifetime (Use CRED or Country Data)
B6: Project Title | C6: Sustainable Land Management Project (SLMP-2)
B7: GEF ID | C7: P133410
B8: Country | C8: Ethiopia
B9: Agency | C9: Ministry of Agriculture and Natural Resources
B10: Trust Fund | C10: GEF, LDCF, Norway Gov't
B11: LDCF/SCCF Objective | C11: Reduce land degradation
C12: Improve land productivity
C13: Scaling up best practices
B14: Project's Primary Sector | C14: Land Management
B15: AMAT Completion date | C15: 42849
B16: Person Responsible for Completing the AMAT
B17: Name | C17: Habtamu Hailu
B18: Position | C18: National Program Coordinator
B20: LEGEND - Color Codes
B21: INPUT- Please Fill In
B22: No Entry Required
B23: No Entry Required

Sheet Target at CEO Endorsement
C1: Climate Change Adaptation - LDCF/SCCF Adaptation Monitoring and Assessment Tool
B2: Goal: Support developing countries to become climate resilient by integrating adaptation measures in development policies, plans, programs, projects and actions
B3: Impact: Reduced absolute economic losses at country level (including loss of life, property and ecosystem services) due to climate change, including variability
B4: Indicator: Economic loss trend over a project period and beyond due to climate change, including variability
B5: Metric: Total property loss per event in $US/ Number of people affected by event during the project lifetime (Use CRED or Country Data)
B8: Objective 1: Reduce vulnerability to the adverse impacts of climate change, including variability, at local, national, regional and global level
C9: Outcome and Output Indicators | D9: Metric | E9: Target at CEO Endorsement | H9: Baseline
B10: Outcome 1.1: Mainstreamed adaptation in broader development frameworks at country level and in targeted vulnerable areas
E11: Number | F11: Type | H11: Number | I11: Type
B12: Indicator 1.1.1 | C12: Adaptation actions implemented in national/sub-regional development frameworks | D12: Number and type
E19: Type | F19: YES/NO | H19: Type | I19: YES/NO
B20: Indicator 1.1.2 | C20: For each action listedunder Indicator 1.1.1, indicate which ones include adaptation budget allocation and targets | D20: Yes =Y, No=N
E27: Type | F27: Score | H27: Type | I27: Score
B28: Indicator 1.1.3 | C28: For each action listed under Indicator 1.1.1, indicate to what extent targets set out in plans have been met | D28: Score: 1= Not significantly 2= Significantly 3= significantly
B35: Output 1.1.1: Adaptation measures and necessary budget allocations included in relevant frameworks
E36: Type | F36: Level | H36: Type | I36: Level
B37: Indicator 1.1.1.1 | C37: Development frameworks that include specific budgets for adaptation actions | D37: List type of development framework and briefly describe the level of the action
E44: Type | F44: Level | H44: Type | I44: Level
B45: Indicator 1.1.1.2 | C45: Sectoral strategies that include specific budgets for adaptation actions | D45: List type and level
E52: Type | F52: Level | H52: Type | I52: Level
B53: Indicator 1.1.1.3 | C53: Regulatory reform and fiscal incentive structures introduced that incorporate climate change risk management | D53: List type and level
B59: Outcome 1.2: Reduced vulnerability in development sectors
B60: Based on development sector(s) that project/program targets, select appropriate indicator(s) from list below or provide relevant indicator to track reduced vulnerability in targeted development sector:
B61: Indicator 1.2.1 | C61: Infection rates of population to climate- sensitive diseases as compared with past population infected per year similar climatic conditions (% change) | D61: % change | H61: 0% change
E62: Female | F62: Male | H62: Female | I62: Male
B63: Indicator 1.2.2 | C63: % of targeted population covered by innovative insurance mechanisms (dissagregated by gender) | D63: % dissagregated by gender
B64: Indicator 1.2.3 | C64: Number of additional people provided with access to safe water supply and basic sanitation services given existing and projected climate change | D64: number dissagregated by gender
B65: Indicator 1.2.4 | C65: Increase in water supply targeted areas | D65: tons/m3 | H65: no increase
B66: Indicator 1.2.5 | C66: Increase in agricultural productivity in targeted areas | D66: tons/ha | H66: no increase
B67: Indicator 1.2.6 | C67: Water availability for energy production | D67: (liters/gallons available for hydropower)
B68: Indicator 1.2.7 | C68: Energy production from hydropower | D68: (kW/hr generated from hydro)
B69: Indicator 1.2.8 | C69: % change in projected food production in targeted area given existing and projected climate change | D69: % change of food production (measured in tons/year) | H69: 0% change
B70: Indicator 1.2.9 | C70: % change in food availability given existing and projected climate change | D70: % change in food availability (measured in tons/year) | H70: 0% change
B71: Indicator 1.2.10 | C71: % change in income generation in targeted area given existing and projected climate change | D71: % change in income (US $) | H71: 0% change
E72: Female | F72: Male | H72: Female | I72: Male
B73: Indicator 1.2.11 | C73: % of population with access to improved flood and drought management | D73: % of population disaggregated by gender | E73: 0.49 | F73: 0.51
B74: Indicator 1.2.12 | C74: % of livestock farmers covered by a monitoring and early warning and response action scheme for climate sensitive plants pests and diseases | D74: % of livestock farmers
B75: Indicator 1.2.13 | C75: % of cropland area covered by a monitoring and early warning and response action scheme for climate sensitive plants pests and diseases | D75: % of cropland area (Ha)
E76: Female | F76: Male | H76: Female | I76: Male
B77: Indicator 1.2.14 | C77: Vulnerability and risk perception index (Score) - Disaggregated by gender | D77: The score for this indicator will have to be assigned based on the results of a conducted survey. The score ranges from 1 to 5 and below are the explanations of the rankings: 1. Extreme Vulnerability 2. High Vulnerability 3. Medium Vulenrability 4. Low Vulnerability 5. No Vulnerability
...

Sheet Mid-term Results
C1: Climate Change Adaptation - LDCF/SCCF Adaptation Monitoring and Assessment Tool
B2: Goal: Support developing countries to become climate resilient by integrating adaptation measures in development policies, plans, programs, projects and actions
B3: Impact: Reduced absolute economic losses at country level (including loss of life, property and ecosystem services) due to climate change, including variability
B4: Indicator: Economic loss trend over a project period and beyond due to climate change, including variability
B5: Metric: Total property loss per event in $US/ Number of people affected by event during the project lifetime (Use CRED or Country Data)
B8: Objective 1: Reduce vulnerability to the adverse impacts of climate change, including variability, at local, national, regional and global level
C9: Outcome and Output Indicators | D9: Metric | E9: Mid-term Results | H9: Target at CEO Endorsement | K9: Baseline
B10: Outcome 1.1: Mainstreamed adaptation in broader development frameworks at country level and in targeted vulnerable areas
E11: Number | F11: Type | H11: Number | I11: Type | K11: Number | L11: Type
B12: Indicator 1.1.1 | C12: Adaptation actions implemented in national/sub-regional development frameworks | D12: Number and type | H12: ='Target at CEO Endorsement'!E12 -> 0 | I12: ='Target at CEO Endorsement'!F12 -> 0 | K12: ='Target at CEO Endorsement'!H12 -> 0 | L12: ='Target at CEO Endorsement'!I12 -> 0
H13: ='Target at CEO Endorsement'!E13 -> 0 | I13: ='Target at CEO Endorsement'!F13 -> 0 | K13: ='Target at CEO Endorsement'!H13 -> 0 | L13: ='Target at CEO Endorsement'!I13 -> 0
H14: ='Target at CEO Endorsement'!E14 -> 0 | I14: ='Target at CEO Endorsement'!F14 -> 0 | K14: ='Target at CEO Endorsement'!H14 -> 0 | L14: ='Target at CEO Endorsement'!I14 -> 0
H15: ='Target at CEO Endorsement'!E15 -> 0 | I15: ='Target at CEO Endorsement'!F15 -> 0 | K15: ='Target at CEO Endorsement'!H15 -> 0 | L15: ='Target at CEO Endorsement'!I15 -> 0
H16: ='Target at CEO Endorsement'!E16 -> 0 | I16: ='Target at CEO Endorsement'!F16 -> 0 | K16: ='Target at CEO Endorsement'!H16 -> 0 | L16: ='Target at CEO Endorsement'!I16 -> 0
H17: ='Target at CEO Endorsement'!E17 -> 0 | I17: ='Target at CEO Endorsement'!F17 -> 0 | K17: ='Target at CEO Endorsement'!H17 -> 0 | L17: ='Target at CEO Endorsement'!I17 -> 0
H18: ='Target at CEO Endorsement'!E18 -> 0 | I18: ='Target at CEO Endorsement'!F18 -> 0 | K18: ='Target at CEO Endorsement'!H18 -> 0 | L18: ='Target at CEO Endorsement'!I18 -> 0
E19: Type | F19: YES/NO | H19: Type | I19: YES/NO | K19: Type | L19: YES/NO
B20: Indicator 1.1.2 | C20: For each action listedunder Indicator 1.1.1, indicate which ones include adaptation budget allocation and targets | D20: Yes =Y, No=N | H20: ='Target at CEO Endorsement'!E20 -> 0 | I20: ='Target at CEO Endorsement'!F20 -> 0 | K20: ='Target at CEO Endorsement'!H20 -> 0 | L20: ='Target at CEO Endorsement'!I20 -> 0
H21: ='Target at CEO Endorsement'!E21 -> 0 | I21: ='Target at CEO Endorsement'!F21 -> 0 | K21: ='Target at CEO Endorsement'!H21 -> 0 | L21: ='Target at CEO Endorsement'!I21 -> 0
H22: ='Target at CEO Endorsement'!E22 | I22: ='Target at CEO Endorsement'!F22 -> 0 | K22: ='Target at CEO Endorsement'!H22 -> 0 | L22: ='Target at CEO Endorsement'!I22 -> 0
H23: ='Target at CEO Endorsement'!E23 | I23: ='Target at CEO Endorsement'!F23 -> 0 | K23: ='Target at CEO Endorsement'!H23 -> 0 | L23: ='Target at CEO Endorsement'!I23 -> 0
H24: ='Target at CEO Endorsement'!E24 | I24: ='Target at CEO Endorsement'!F24 -> 0 | K24: ='Target at CEO Endorsement'!H24 -> 0 | L24: ='Target at CEO Endorsement'!I24 -> 0
H25: ='Target at CEO Endorsement'!E25 | I25: ='Target at CEO Endorsement'!F25 -> 0 | K25: ='Target at CEO Endorsement'!H25 -> 0 | L25: ='Target at CEO Endorsement'!I25 -> 0
H26: ='Target at CEO Endorsement'!E26 | I26: ='Target at CEO Endorsement'!F26 -> 0 | K26: ='Target at CEO Endorsement'!H26 -> 0 | L26: ='Target at CEO Endorsement'!I26 -> 0
E27: Type | F27: Score | H27: Type | I27: Score | K27: Type | L27: Score
B28: Indicator 1.1.3 | C28: For each action listed under Indicator 1.1.1, indicate to what extent targets set out in plans have been met | D28: Score: 1= Not significantly 2= Significantly 3= significantly | H28: ='Target at CEO Endorsement'!E28 -> 0 | I28: ='Target at CEO Endorsement'!F28 -> 0 | K28: ='Target at CEO Endorsement'!H28 -> 0 | L28: ='Target at CEO Endorsement'!I28 -> 0
H29: ='Target at CEO Endorsement'!E29 -> 0 | I29: ='Target at CEO Endorsement'!F29 -> 0 | K29: ='Target at CEO Endorsement'!H29 -> 0 | L29: ='Target at CEO Endorsement'!I29 -> 0
H30: ='Target at CEO Endorsement'!E30 -> 0 | I30: ='Target at CEO Endorsement'!F30 -> 0 | K30: ='Target at CEO Endorsement'!H30 -> 0 | L30: ='Target at CEO Endorsement'!I30 -> 0
H31: ='Target at CEO Endorsement'!E31 -> 0 | I31: ='Target at CEO Endorsement'!F31 -> 0 | K31: ='Target at CEO Endorsement'!H31 -> 0 | L31: ='Target at CEO Endorsement'!I31 -> 0
H32: ='Target at CEO Endorsement'!E32 -> 0 | I32: ='Target at CEO Endorsement'!F32 -> 0 | K32: ='Target at CEO Endorsement'!H32 -> 0 | L32: ='Target at CEO Endorsement'!I32 -> 0
H33: ='Target at CEO Endorsement'!E33 -> 0 | I33: ='Target at CEO Endorsement'!F33 -> 0 | K33: ='Target at CEO Endorsement'!H33 -> 0 | L33: ='Target at CEO Endorsement'!I33 -> 0
H34: ='Target at CEO Endorsement'!E34 -> 0 | I34: ='Target at CEO Endorsement'!F34 -> 0 | K34: ='Target at CEO Endorsement'!H34 -> 0 | L34: ='Target at CEO Endorsement'!I34 -> 0
B35: Output 1.1.1: Adaptation measures and necessary budget allocations included in relevant frameworks
E36: Type | F36: Level | H36: Type | I36: Level | K36: Type | L36: Level
B37: Indicator 1.1.1.1 | C37: Development frameworks that include specific budgets for adaptation actions | D37: List type of development framework and briefly describe the level of the action | H37: ='Target at CEO Endorsement'!E37 -> 0 | I37: ='Target at CEO Endorsement'!F37 -> 0 | K37: ='Target at CEO Endorsement'!H37 -> 0 | L37: ='Target at CEO Endorsement'!I37 -> 0
H38: ='Target at CEO Endorsement'!E38 -> 0 | I38: ='Target at CEO Endorsement'!F38 -> 0 | K38: ='Target at CEO Endorsement'!H38 -> 0 | L38: ='Target at CEO Endorsement'!I38 -> 0
H39: ='Target at CEO Endorsement'!E39 -> 0 | I39: ='Target at CEO Endorsement'!F39 -> 0 | K39: ='Target at CEO Endorsement'!H39 -> 0 | L39: ='Target at CEO Endorsement'!I39 -> 0
H40: ='Target at CEO Endorsement'!E40 -> 0 | I40: ='Target at CEO Endorsement'!F40 -> 0 | K40: ='Target at CEO Endorsement'!H40 -> 0 | L40: ='Target at CEO Endorsement'!I40 -> 0
H41: ='Target at CEO Endorsement'!E41 -> 0 | I41: ='Target at CEO Endorsement'!F41 -> 0 | K41: ='Target at CEO Endorsement'!H41 -> 0 | L41: ='Target at CEO Endorsement'!I41 -> 0
H42: ='Target at CEO Endorsement'!E42 -> 0 | I42: ='Target at CEO Endorsement'!F42 -> 0 | K42: ='Target at CEO Endorsement'!H42 -> 0 | L42: ='Target at CEO Endorsement'!I42 -> 0
...

Sheet Terminal Results
C1: Climate Change Adaptation - LDCF/SCCF Adaptation Monitoring and Assessment Tool
B2: Goal: Support developing countries to become climate resilient by integrating adaptation measures in development policies, plans, programs, projects and actions
B3: Impact: Reduced absolute economic losses at country level (including loss of life, property and ecosystem services) due to climate change, including variability
B4: Indicator: Economic loss trend over a project period and beyond due to climate change, including variability
B5: Metric: Total property loss per event in $US/ Number of people affected by event during the project lifetime (Use CRED or Country Data)
B8: Objective 1: Reduce vulnerability to the adverse impacts of climate change, including variability, at local, national, regional and global level
C9: Outcome and Output Indicators | D9: Metric | E9: Terminal Results | H9: Target at CEO Endorsement | K9: Baseline
B10: Outcome 1.1: Mainstreamed adaptation in broader development frameworks at country level and in targeted vulnerable areas
E11: Number | F11: Type | H11: Number | I11: Type | K11: Number | L11: Type
B12: Indicator 1.1.1 | C12: Adaptation actions implemented in national/sub-regional development frameworks | D12: Number and type | H12: ='Target at CEO Endorsement'!E12 -> 0 | I12: ='Target at CEO Endorsement'!F12 -> 0 | K12: ='Target at CEO Endorsement'!H12 -> 0 | L12: ='Target at CEO Endorsement'!I12 -> 0
H13: ='Target at CEO Endorsement'!E13 -> 0 | I13: ='Target at CEO Endorsement'!F13 -> 0 | K13: ='Target at CEO Endorsement'!H13 -> 0 | L13: ='Target at CEO Endorsement'!I13 -> 0
H14: ='Target at CEO Endorsement'!E14 -> 0 | I14: ='Target at CEO Endorsement'!F14 -> 0 | K14: ='Target at CEO Endorsement'!H14 -> 0 | L14: ='Target at CEO Endorsement'!I14 -> 0
H15: ='Target at CEO Endorsement'!E15 -> 0 | I15: ='Target at CEO Endorsement'!F15 -> 0 | K15: ='Target at CEO Endorsement'!H15 -> 0 | L15: ='Target at CEO Endorsement'!I15 -> 0
H16: ='Target at CEO Endorsement'!E16 -> 0 | I16: ='Target at CEO Endorsement'!F16 -> 0 | K16: ='Target at CEO Endorsement'!H16 -> 0 | L16: ='Target at CEO Endorsement'!I16 -> 0
H17: ='Target at CEO Endorsement'!E17 -> 0 | I17: ='Target at CEO Endorsement'!F17 -> 0 | K17: ='Target at CEO Endorsement'!H17 -> 0 | L17: ='Target at CEO Endorsement'!I17 -> 0
H18: ='Target at CEO Endorsement'!E18 -> 0 | I18: ='Target at CEO Endorsement'!F18 -> 0 | K18: ='Target at CEO Endorsement'!H18 -> 0 | L18: ='Target at CEO Endorsement'!I18 -> 0
E19: Type | F19: YES/NO | H19: Type | I19: YES/NO | K19: Type | L19: YES/NO
B20: Indicator 1.1.2 | C20: For each action listedunder Indicator 1.1.1, indicate which ones include adaptation budget allocation and targets | D20: Yes =Y, No=N | H20: ='Target at CEO Endorsement'!E20 -> 0 | I20: ='Target at CEO Endorsement'!F20 -> 0 | K20: ='Target at CEO Endorsement'!H20 -> 0 | L20: ='Target at CEO Endorsement'!I20 -> 0
H21: ='Target at CEO Endorsement'!E21 -> 0 | I21: ='Target at CEO Endorsement'!F21 -> 0 | K21: ='Target at CEO Endorsement'!H21 -> 0 | L21: ='Target at CEO Endorsement'!I21 -> 0
H22: ='Target at CEO Endorsement'!E22 | I22: ='Target at CEO Endorsement'!F22 -> 0 | K22: ='Target at CEO Endorsement'!H22 -> 0 | L22: ='Target at CEO Endorsement'!I22 -> 0
H23: ='Target at CEO Endorsement'!E23 | I23: ='Target at CEO Endorsement'!F23 -> 0 | K23: ='Target at CEO Endorsement'!H23 -> 0 | L23: ='Target at CEO Endorsement'!I23 -> 0
H24: ='Target at CEO Endorsement'!E24 | I24: ='Target at CEO Endorsement'!F24 -> 0 | K24: ='Target at CEO Endorsement'!H24 -> 0 | L24: ='Target at CEO Endorsement'!I24 -> 0
H25: ='Target at CEO Endorsement'!E25 | I25: ='Target at CEO Endorsement'!F25 -> 0 | K25: ='Target at CEO Endorsement'!H25 -> 0 | L25: ='Target at CEO Endorsement'!I25 -> 0
H26: ='Target at CEO Endorsement'!E26 | I26: ='Target at CEO Endorsement'!F26 -> 0 | K26: ='Target at CEO Endorsement'!H26 -> 0 | L26: ='Target at CEO Endorsement'!I26 -> 0
E27: Type | F27: Score | H27: Type | I27: Score | K27: Type | L27: Score
B28: Indicator 1.1.3 | C28: For each action listed under Indicator 1.1.1, indicate to what extent targets set out in plans have been met | D28: Score: 1= Not significantly 2= Significantly 3= significantly | H28: ='Target at CEO Endorsement'!E28 -> 0 | I28: ='Target at CEO Endorsement'!F28 -> 0 | K28: ='Target at CEO Endorsement'!H28 -> 0 | L28: ='Target at CEO Endorsement'!I28 -> 0
H29: ='Target at CEO Endorsement'!E29 -> 0 | I29: ='Target at CEO Endorsement'!F29 -> 0 | K29: ='Target at CEO Endorsement'!H29 -> 0 | L29: ='Target at CEO Endorsement'!I29 -> 0
H30: ='Target at CEO Endorsement'!E30 -> 0 | I30: ='Target at CEO Endorsement'!F30 -> 0 | K30: ='Target at CEO Endorsement'!H30 -> 0 | L30: ='Target at CEO Endorsement'!I30 -> 0
H31: ='Target at CEO Endorsement'!E31 -> 0 | I31: ='Target at CEO Endorsement'!F31 -> 0 | K31: ='Target at CEO Endorsement'!H31 -> 0 | L31: ='Target at CEO Endorsement'!I31 -> 0
H32: ='Target at CEO Endorsement'!E32 -> 0 | I32: ='Target at CEO Endorsement'!F32 -> 0 | K32: ='Target at CEO Endorsement'!H32 -> 0 | L32: ='Target at CEO Endorsement'!I32 -> 0
H33: ='Target at CEO Endorsement'!E33 -> 0 | I33: ='Target at CEO Endorsement'!F33 -> 0 | K33: ='Target at CEO Endorsement'!H33 -> 0 | L33: ='Target at CEO Endorsement'!I33 -> 0
H34: ='Target at CEO Endorsement'!E34 -> 0 | I34: ='Target at CEO Endorsement'!F34 -> 0 | K34: ='Target at CEO Endorsement'!H34 -> 0 | L34: ='Target at CEO Endorsement'!I34 -> 0
B35: Output 1.1.1: Adaptation measures and necessary budget allocations included in relevant frameworks
E36: Type | F36: Level | H36: Type | I36: Level | K36: Type | L36: Level
B37: Indicator 1.1.1.1 | C37: Development frameworks that include specific budgets for adaptation actions | D37: List type of development framework and briefly describe the level of the action | H37: ='Target at CEO Endorsement'!E37 -> 0 | I37: ='Target at CEO Endorsement'!F37 -> 0 | K37: ='Target at CEO Endorsement'!H37 -> 0 | L37: ='Target at CEO Endorsement'!I37 -> 0
H38: ='Target at CEO Endorsement'!E38 -> 0 | I38: ='Target at CEO Endorsement'!F38 -> 0 | K38: ='Target at CEO Endorsement'!H38 -> 0 | L38: ='Target at CEO Endorsement'!I38 -> 0
H39: ='Target at CEO Endorsement'!E39 -> 0 | I39: ='Target at CEO Endorsement'!F39 -> 0 | K39: ='Target at CEO Endorsement'!H39 -> 0 | L39: ='Target at CEO Endorsement'!I39 -> 0
H40: ='Target at CEO Endorsement'!E40 -> 0 | I40: ='Target at CEO Endorsement'!F40 -> 0 | K40: ='Target at CEO Endorsement'!H40 -> 0 | L40: ='Target at CEO Endorsement'!I40 -> 0
H41: ='Target at CEO Endorsement'!E41 -> 0 | I41: ='Target at CEO Endorsement'!F41 -> 0 | K41: ='Target at CEO Endorsement'!H41 -> 0 | L41: ='Target at CEO Endorsement'!I41 -> 0
H42: ='Target at CEO Endorsement'!E42 -> 0 | I42: ='Target at CEO Endorsement'!F42 -> 0 | K42: ='Target at CEO Endorsement'!H42 -> 0 | L42: ='Target at CEO Endorsement'!I42 -> 0
...
